BEGIN:VCALENDAR
VERSION:2.0
PRODID:-//ChamberMaster//Event Calendar 2.0//EN
METHOD:PUBLISH
X-PUBLISHED-TTL:P3D
REFRESH-INTERVAL:P3D
CALSCALE:GREGORIAN
BEGIN:VEVENT
DTSTART:20241012T190000Z
DTEND:20241012T203000Z
X-MICROSOFT-CDO-ALLDAYEVENT:FALSE
SUMMARY:Willow River Cemetery Guided Walking Tour
DESCRIPTION:Walk with us as we enjoy the contemplative\, timeless beauty of the Willow River Cemetery. Come to know it's notable inhabitants and discover the lives they led as Hudson's earliest community members and foundational contributors to our beautiful city.  The tour begins at the Humbird Chapel.
X-ALT-DESC;FMTTYPE=text/html:<p><span style="color:rgb(0\, 0\, 0)\; font-family:questrial\,sans-serif\; font-size:16px">Walk with us as we enjoy the contemplative\, timeless beauty of the Willow River Cemetery. Come to know it&rsquo\;s notable inhabitants and discover the lives they led as Hudson&rsquo\;s earliest community members and foundational contributors to our beautiful city. &nbsp\;The tour begins at the Humbird Chapel.</span></p>\n
LOCATION:815 Wisconsin St\, Hudson\, WI
UID:e.2450.30761
SEQUENCE:3
DTSTAMP:20260421T084915Z
URL:https://business.hudsonwi.org/events/details/willow-river-cemetery-guided-walking-tour-30761
END:VEVENT

END:VCALENDAR
